BEGIN:VCALENDAR
VERSION:2.0
PRODID:-//Vänsterpartiet Dalarna - ECPv6.15.20//NONSGML v1.0//EN
CALSCALE:GREGORIAN
METHOD:PUBLISH
X-ORIGINAL-URL:https://dalarna.vansterpartiet.se
X-WR-CALDESC:Händelser för Vänsterpartiet Dalarna
REFRESH-INTERVAL;VALUE=DURATION:PT1H
X-Robots-Tag:noindex
X-PUBLISHED-TTL:PT1H
BEGIN:VTIMEZONE
TZID:Europe/Stockholm
BEGIN:DAYLIGHT
TZOFFSETFROM:+0100
TZOFFSETTO:+0200
TZNAME:CEST
DTSTART:20200329T010000
END:DAYLIGHT
BEGIN:STANDARD
TZOFFSETFROM:+0200
TZOFFSETTO:+0100
TZNAME:CET
DTSTART:20201025T010000
END:STANDARD
BEGIN:DAYLIGHT
TZOFFSETFROM:+0100
TZOFFSETTO:+0200
TZNAME:CEST
DTSTART:20210328T010000
END:DAYLIGHT
BEGIN:STANDARD
TZOFFSETFROM:+0200
TZOFFSETTO:+0100
TZNAME:CET
DTSTART:20211031T010000
END:STANDARD
BEGIN:DAYLIGHT
TZOFFSETFROM:+0100
TZOFFSETTO:+0200
TZNAME:CEST
DTSTART:20220327T010000
END:DAYLIGHT
BEGIN:STANDARD
TZOFFSETFROM:+0200
TZOFFSETTO:+0100
TZNAME:CET
DTSTART:20221030T010000
END:STANDARD
BEGIN:DAYLIGHT
TZOFFSETFROM:+0100
TZOFFSETTO:+0200
TZNAME:CEST
DTSTART:20230326T010000
END:DAYLIGHT
BEGIN:STANDARD
TZOFFSETFROM:+0200
TZOFFSETTO:+0100
TZNAME:CET
DTSTART:20231029T010000
END:STANDARD
BEGIN:DAYLIGHT
TZOFFSETFROM:+0100
TZOFFSETTO:+0200
TZNAME:CEST
DTSTART:20240331T010000
END:DAYLIGHT
BEGIN:STANDARD
TZOFFSETFROM:+0200
TZOFFSETTO:+0100
TZNAME:CET
DTSTART:20241027T010000
END:STANDARD
BEGIN:DAYLIGHT
TZOFFSETFROM:+0100
TZOFFSETTO:+0200
TZNAME:CEST
DTSTART:20250330T010000
END:DAYLIGHT
BEGIN:STANDARD
TZOFFSETFROM:+0200
TZOFFSETTO:+0100
TZNAME:CET
DTSTART:20251026T010000
END:STANDARD
END:VTIMEZONE
BEGIN:VEVENT
DTSTART;TZID=Europe/Stockholm:20240501T140000
DTEND;TZID=Europe/Stockholm:20240501T170000
DTSTAMP:20260425T053439
CREATED:20240425T105744Z
LAST-MODIFIED:20240425T105845Z
UID:6248-1714572000-1714582800@dalarna.vansterpartiet.se
SUMMARY:1 maj i Mora
DESCRIPTION:Gatufest med Vänsterpartiet Mora 1 maj!\n\n\nVänsterpartiet Orsa deltar\n \nVi tar tillbaka kontrollen!\nKLIMATET • VÄLFÄRDEN • TRYGGA JOBB\n\n\n \n Tal av Kajsa Fredholm\, riksdagsledamot och ledamot i Miljö- och jordbruksutskottet\, och Patrik Liljeglöd\, oppositionsråd i Region Dalarna\n Vänster-wok och fika\n Lekar för både stora och små barn\n Musik och pepp\n Goa samtal\n Flygbladsutdelning\n Uppstart av arbetet inför EU-valet och folkomröstningen om Stranden\n\n\n \nNär? 1 maj kl. 14.00\nVar? Dalahästen vid Saxviken\n \n-ligt välkomna!
URL:https://dalarna.vansterpartiet.se/handelse/1-maj-i-mora-2/
LOCATION:Dalahästen\, Saxviken
ORGANIZER;CN="V%C3%A4nsterpartiet Mora":MAILTO:mora@vansterpartiet.se
END:VEVENT
BEGIN:VEVENT
DTSTART;TZID=Europe/Stockholm:20240501T130000
DTEND;TZID=Europe/Stockholm:20240501T153000
DTSTAMP:20260425T053439
CREATED:20240425T112638Z
LAST-MODIFIED:20240425T112709Z
UID:6292-1714568400-1714577400@dalarna.vansterpartiet.se
SUMMARY:1 maj i Rättvik
DESCRIPTION:1 maj i Rättvik!\nVänsterpartiet i Rättvik kommer delta i Socialdemokraterna i Rättviks firande.  \nInformation finns här:\n1:a maj Rättvik Leksand | Facebook
URL:https://dalarna.vansterpartiet.se/handelse/1-maj-i-rattvik/
END:VEVENT
BEGIN:VEVENT
DTSTART;TZID=Europe/Stockholm:20240501T123000
DTEND;TZID=Europe/Stockholm:20240501T153000
DTSTAMP:20260425T053439
CREATED:20240425T110403Z
LAST-MODIFIED:20240425T110403Z
UID:6258-1714566600-1714577400@dalarna.vansterpartiet.se
SUMMARY:1 maj i Falun
DESCRIPTION:Välkommen att fira 1 maj 2024 med Vänsterpartiet Falun!\nI år behöver vi bli många\, Vi har en del att avkräva den sittande regeringen. Kom och gör din röst hörd! \n\n12.30 Samling med välkomsttal i Kvarnparken\n13.00 Demonstrationståget avgår mot Vasaparken\n13.45 Samling i Vasaparken med tal\, musik och palestinsk Dabke-dans\n\n  \nArtister: Klemens Mattsson – Spoken wordDabke-dansledare: Noha YousefTalare: Information om talare kommer inom kort!
URL:https://dalarna.vansterpartiet.se/handelse/1-maj-i-falun-2/
LOCATION:Kvarnparken
ORGANIZER;CN="V%C3%A4nsterpartiet Falun":MAILTO:info@vfalun.se
END:VEVENT
BEGIN:VEVENT
DTSTART;TZID=Europe/Stockholm:20240501T120000
DTEND;TZID=Europe/Stockholm:20240501T150000
DTSTAMP:20260425T053439
CREATED:20240425T110932Z
LAST-MODIFIED:20240425T110932Z
UID:6266-1714564800-1714575600@dalarna.vansterpartiet.se
SUMMARY:1 maj i Avesta
DESCRIPTION:Fira 1 maj med Vänsterpartiet i Avesta!\nTa tillbaka kontrollen!\nKLIMATET – VÄLFÄRDEN – TRYGGA JOBB \nTorgmöte på Gågatan kl. 12-15 \n\nApelltal\nFlygblad\nMusik\nEU-info\nLokal info\nFika mm..\n\n  \nVälkomna!
URL:https://dalarna.vansterpartiet.se/handelse/1-maj-i-avesta/
END:VEVENT
BEGIN:VEVENT
DTSTART;TZID=Europe/Stockholm:20240501T120000
DTEND;TZID=Europe/Stockholm:20240501T140000
DTSTAMP:20260425T053439
CREATED:20240425T111422Z
LAST-MODIFIED:20240425T111522Z
UID:6274-1714564800-1714572000@dalarna.vansterpartiet.se
SUMMARY:1 maj i Leksand
DESCRIPTION:Fira 1 maj med Vänsterpartiet Leksand!\nTa tillbaka kontrollen\n – klimatet\, välfärden och trygga jobb \n\nOrdförande Markus Kummu håller tal\nFika mm…\n\nTid: 12.00-14.00\nPlats: ABF Leksand \n  \nVälkomna!
URL:https://dalarna.vansterpartiet.se/handelse/6274/
END:VEVENT
BEGIN:VEVENT
DTSTART;TZID=Europe/Stockholm:20240501T113000
DTEND;TZID=Europe/Stockholm:20240501T133000
DTSTAMP:20260425T053439
CREATED:20240425T112311Z
LAST-MODIFIED:20240429T081951Z
UID:6286-1714563000-1714570200@dalarna.vansterpartiet.se
SUMMARY:1 maj i Smedjebacken
DESCRIPTION:1 maj med Vänsterpartiet Smedjebacken!\nFirar tillsammans med Socialdemokraterna i Smedjebacken. \nVi ses på Vasatorget kl. 11:30 och tågar tillsammans med S.
URL:https://dalarna.vansterpartiet.se/handelse/1-maj-i-smedjebacken/
END:VEVENT
BEGIN:VEVENT
DTSTART;TZID=Europe/Stockholm:20240501T110000
DTEND;TZID=Europe/Stockholm:20240501T150000
DTSTAMP:20260425T053439
CREATED:20240425T105313Z
LAST-MODIFIED:20240425T105314Z
UID:6243-1714561200-1714575600@dalarna.vansterpartiet.se
SUMMARY:1 maj i Borlänge
DESCRIPTION:1 maj med Vänsterpartiet i Borlänge!\nTa tillbaka kontrollen\n – klimatet\, välfärden och trygga jobb \nPolitiken måste ta ansvar nu och bryta med högerpolitikens alla utförsäljningar och nedskärningar. De stora samhällsproblemen kommer inte att lösas av marknaden.  \nVälkommen att fira 1 maj 2024 med Vänsterpartiet Borlänge\nonsdag den 1 maj kl.11.00\, Ängsplan i Borlänge \nDet blir musik och tal. \nVarmt välkomna!  \n  \nI samarbete med ABF
URL:https://dalarna.vansterpartiet.se/handelse/1-maj-i-borlange-2/
LOCATION:Ängsplan\, Borlänge
ORGANIZER;CN="V%C3%A4nsterpartiet Borl%C3%A4nge":MAILTO:borlange@vansterpartiet.se
END:VEVENT
BEGIN:VEVENT
DTSTART;TZID=Europe/Stockholm:20240501T100000
DTEND;TZID=Europe/Stockholm:20240501T140000
DTSTAMP:20260425T053439
CREATED:20240425T104310Z
LAST-MODIFIED:20240425T104928Z
UID:6232-1714557600-1714572000@dalarna.vansterpartiet.se
SUMMARY:1 maj i Säter
DESCRIPTION:Vi ses 1:a maj!\nVi går med Socialdemokraterna i det högtidliga tåget för solidaritet\, syskonskap\, jämlikhet\, trygga arbeten och för ett hållbart klimat och miljö. \nGör gärna en egen demonstrationsskylt! \nVi tar med lite röda flaggor och vi har ju vår fina klimatfana att bära tillsammans. \nVi räknar med att samlas klockan 10.00 vid Klockarskolans parkering mot Smedjebacksvägen och avgå 10.30 mot Folkets Hus! \nTa med er familjen\, grannarna\, vännerna! Vi behöver samlas i gemenskap i dessa tider! \nEfteråt sammanstrålar vi i mysiga Tebutiken och delar lite mat och landar tillsammans! \nSäg till om ni har speciella matönskemål genom sater@vansterpartiet.se
URL:https://dalarna.vansterpartiet.se/handelse/1-maj-i-sater/
LOCATION:Folkets hus\, Säter
CATEGORIES:1 maj 2024
ORGANIZER;CN="V%C3%A4nsterpartiet S%C3%A4ter":MAILTO:sater@vansterpartiet.se
END:VEVENT
BEGIN:VEVENT
DTSTART;VALUE=DATE:20240501
DTEND;VALUE=DATE:20240502
DTSTAMP:20260425T053439
CREATED:20240425T111953Z
LAST-MODIFIED:20240425T111953Z
UID:6282-1714521600-1714607999@dalarna.vansterpartiet.se
SUMMARY:1 maj i Malung-Sälen
DESCRIPTION:1 maj i Malung Sälen!\nVänsterpartiet Malung-Sälen delar ut tidningen ”Vänstern i Malung-Sälen” till alla hushåll i kommunen. \n  \nOBS! Inget fysiskt evenemang.
URL:https://dalarna.vansterpartiet.se/handelse/1-maj-i-malung-salen/
ORGANIZER;CN="V%C3%A4nsterpartiet Malung-S%C3%A4len":MAILTO:malung@vansterpartiet.se
END:VEVENT
BEGIN:VEVENT
DTSTART;TZID=Europe/Stockholm:20240323T093000
DTEND;TZID=Europe/Stockholm:20240323T180000
DTSTAMP:20260425T053439
CREATED:20240222T112455Z
LAST-MODIFIED:20240702T100150Z
UID:6152-1711186200-1711216800@dalarna.vansterpartiet.se
SUMMARY:Distriktårskonferens 2024 (DÅK)
DESCRIPTION:Handlingar distriktårskonferens\n \n\nKallelse till distriktsårskonferens 23 mars 2024\nÅrsberättelse 2023\nEkonomisk berättelse 2023\nEkonomisk berättelse 2023 Bilaga 1\,\nEkonomisk berättelse 2023 Bilaga 2\nRevisionsberättelse distriktet 2023\nKommentarer till revisionsberättelse för Vänsterpartiets Daladistrikt verksamhetsåret 2023 (1)\nFörslag till verksamhetsplan 2024\nDistriktsstyrelsens förslag till valberedning 2024\nValberedningens förslag på styrelse 2024\nFörslag på uttalande om Palestina\nVänsterpartiet i Region Dalarna – Årsrapport 2023\n\n \nProtokoll m.m.\n \n\nProtokoll DÅK 2024 – signerat\nBlogginlägg DÅK 2024
URL:https://dalarna.vansterpartiet.se/handelse/distriktarskonferens-2024-dak/
LOCATION:Folkets park\, Rättvik\, Furudalsvägen 1\, Rättvik\, 795 32
CATEGORIES:Distriktsarrangemang
ORGANIZER;CN="V%C3%A4nsterpartiet Dalarna":MAILTO:dalarna@vansterpartiet.se
END:VEVENT
BEGIN:VEVENT
DTSTART;TZID=Europe/Stockholm:20230816T183000
DTEND;TZID=Europe/Stockholm:20230816T203000
DTSTAMP:20260425T053439
CREATED:20230810T210341Z
LAST-MODIFIED:20230810T210341Z
UID:6057-1692210600-1692217800@dalarna.vansterpartiet.se
SUMMARY:Föreläsning & diskussion med Barbro Engman om personal- och pengabristen i kommuner och regioner
DESCRIPTION: \nKom och lyssna på och samtala med krönikören och debattören Barbro Engman\, Falun\, om personalbristen och pengabristen i kommuner och regioner.\nHon är före detta riksdagsledamot (S) och förbundsordförande för Hyresgästföreningen.\n \nNär: Onsdag den 16 augusti kl. 18.30\nVar: IOGT-NTO\, Dalagatan 3\, Malung\n \n\nVarmt välkommen!\n \nArrangeras av Vänsterpartiet Malung-Sälen i samarbete med ABF.
URL:https://dalarna.vansterpartiet.se/handelse/forelasning-diskussion-med-barbro-engman-om-personal-och-pengabristen-i-kommuner-och-regioner/
LOCATION:IOGT-NTO Malung\, Dalagatan 3\, Malung\, Dalarna\, 782 30\, Sverige
ORGANIZER;CN="V%C3%A4nsterpartiet Malung-S%C3%A4len":MAILTO:malung@vansterpartiet.se
END:VEVENT
BEGIN:VEVENT
DTSTART;TZID=Europe/Stockholm:20230528T100000
DTEND;TZID=Europe/Stockholm:20230528T150000
DTSTAMP:20260425T053439
CREATED:20230516T104041Z
LAST-MODIFIED:20230516T104703Z
UID:5997-1685268000-1685286000@dalarna.vansterpartiet.se
SUMMARY:Facklig politisk organisering
DESCRIPTION:Välkommen till en heldag i Borlänge med facklig politisk organisering!\nDatum: 28 maj\nTid: 10.00-15.00\nPlats: Vänsterhörnet\, Vattugatan 5 i Borlänge \nVi kommer diskutera studier\, fackliga frågor\, branschtillhörigheter och hur vi stärker varandra i vår fackliga roll både politiskt och på arbetsplatsen  \nVi bjuder på lunch och fika. \nResekostnader löser vi i efterhand med distriktet Vänsterpartiet Dalarna i samverkan med lokalföreningarna. \nANMÄLAN:\n\nAnmäla via länken om du tänkt delta. I anmälan skriver du eventuella kostpreferenser och matallergier.\nAnge gärna vilket fackförbund till är ansluten till i anmälan.\n\nLänk till anmälan:\nhttps://www.abf.se/…/fackligt-politisk-organisering/\nVid frågor ring 070-290 76 94 eller maila till borlange@vansterpartiet.se \nArrangeras i samarbete med ABF .
URL:https://dalarna.vansterpartiet.se/handelse/facklig-politisk-organisering/
CATEGORIES:Utbildningar
ORGANIZER;CN="V%C3%A4nsterpartiet Borl%C3%A4nge":MAILTO:borlange@vansterpartiet.se
END:VEVENT
BEGIN:VEVENT
DTSTART;TZID=Europe/Stockholm:20230501T123000
DTEND;TZID=Europe/Stockholm:20230501T163000
DTSTAMP:20260425T053439
CREATED:20230426T161827Z
LAST-MODIFIED:20230427T104803Z
UID:5957-1682944200-1682958600@dalarna.vansterpartiet.se
SUMMARY:1 maj i Falun
DESCRIPTION:Alla ska ha råd!\nVänsterpartiet Falun bjuder in till firande av arbetarrörelsens dag den 1 maj. \nProgram:\nFör hyllandet av arbetarrörelsens dag marscherar Vänsterpartiet Falun i 1 maj-tåget från Kvarnparken till Vasaparken.  Marschen ackompanjeras av rytmen från Maliks trummor. Efter marschen blir det både musikuppträdanden och tal i Vasaparken. Till underhållningen bjuder Vänsterpartiet på korvgrillning och kaffe\, the och saft. \nTider:\n12.30 Samling i Kvarnparken\n13.00 1 maj-tåg\nÅtföljs av: Underhållning\, tal och korvgrillning. \n[Programmet kommer uppdateras inom kort.] \nInformation:\n12.30 Samling i Kvarnparken\n13.00 1 maj-tåg  \n  \nUppträdanden:\n– Plastic Paddy\, irländsk musik\n– Andrew Scott\, irländsk dans \nTalare:\n– Kajsa Fredholm (V)\, riksdagsledamot \n– Patrik Liljeglöd (V)\, oppositionsråd Region Dalarna\n– Lorena Diaz Pohl (V)\, ordförande Faluns partiförening\n– Kjell Nordqvist (V)\, gruppledare Falun  \nVarmt välkomna!
URL:https://dalarna.vansterpartiet.se/handelse/1-maj-i-falun/
LOCATION:Vasaparken\, Promenaden\, Falun\, Dalarna\, 791 31\, Sverige
CATEGORIES:1 maj 2023
ORGANIZER;CN="V%C3%A4nsterpartiet Falun":MAILTO:info@vfalun.se
END:VEVENT
BEGIN:VEVENT
DTSTART;TZID=Europe/Stockholm:20230501T120000
DTEND;TZID=Europe/Stockholm:20230501T160000
DTSTAMP:20260425T053439
CREATED:20230413T101509Z
LAST-MODIFIED:20230420T055924Z
UID:5890-1682942400-1682956800@dalarna.vansterpartiet.se
SUMMARY:1 maj i Mora
DESCRIPTION:Alla ska ha råd!\nDen 1 maj bjuder Vänsterpartiet Mora in till firande av arbetarrörelsens dag. \nDet blir fest och underhållning med tal och livemusik. Evenemanget är vid dalahästen vid Siljan. \nVarmt välkomna! \nProgrammet kommer uppdateras inom kort.
URL:https://dalarna.vansterpartiet.se/handelse/1-maj-i-mora/
LOCATION:Kajen\, Strandgatan 19\, Mora\, Dalarna\, 792 30\, Sverige
CATEGORIES:1 maj 2023
ORGANIZER;CN="V%C3%A4nsterpartiet Mora":MAILTO:mora@vansterpartiet.se
END:VEVENT
BEGIN:VEVENT
DTSTART;TZID=Europe/Stockholm:20230501T110000
DTEND;TZID=Europe/Stockholm:20230501T140000
DTSTAMP:20260425T053439
CREATED:20230413T115255Z
LAST-MODIFIED:20230420T055909Z
UID:5906-1682938800-1682949600@dalarna.vansterpartiet.se
SUMMARY:1 maj i Borlänge
DESCRIPTION:Alla ska ha råd!\nVänsterpartiet Borlänge bjuder in till firande av arbetarrörelsens dag den 1 maj. \nSamling på Sveatorget i Borlänge kl.11.00\nProgrammet starar 11.30 \nTalare:\nPatrik Liljeglöd \nLisa Arnesson \nCarl Blom \nPresentation:\nPatrik Liljeglöd är regionpolitiker och gruppledare för Vänsterpartiet i Dalarna och driver oppositionen i vård- och omsorgsfrågor. \nLisa Arnesson är skolpolitiker i Borlänge och elevhälsa är en av hennes hjärtefrågor. \nCarl Blom figurerar flitigt på lokalpressens debattsidor med engagemang för folkbildning. \nProgrammet kommer uppdateras inom kort.\nFölj gärna uppdateringarna på Facebook-eventet. \n  \n 
URL:https://dalarna.vansterpartiet.se/handelse/1-maj-i-borlange/
LOCATION:Sveatorget\, Sveagatan 19\, Borlänge\, Dalarna\, 784 33\, Sverige
CATEGORIES:1 maj 2023
ORGANIZER;CN="V%C3%A4nsterpartiet Borl%C3%A4nge":MAILTO:borlange@vansterpartiet.se
END:VEVENT
BEGIN:VEVENT
DTSTART;TZID=Europe/Stockholm:20230411T183000
DTEND;TZID=Europe/Stockholm:20230411T203000
DTSTAMP:20260425T053439
CREATED:20230404T064120Z
LAST-MODIFIED:20230411T070117Z
UID:5885-1681237800-1681245000@dalarna.vansterpartiet.se
SUMMARY:Föreläsning: Elpris\, solel\, elproduktion & energipolitik
DESCRIPTION:Vänsterpartiet Malung\, i samarbete med ABF Dalarna\, bjuder in till föreläsning.\n\n\nBjörn Karlsson\, kanslichef vid Högskolan i Gävle\, kommer och föreläser om energisystem idag i Malung. Han har innan sin roll som kanslichef även arbetat som professor i energiteknik på högskolan.\n\n\nSkolan deltar i EU:s forskningsprogram för att minska fossila bränslen. Detta är en del av hans forskningsarbete\, som främst handlade om hur man använder solenergisystem på ett effektivt sätt.\n\n\nI en intervju säger han att global solenergi är det riktigt stora alternativet för att minska det fossila energianvändandet.\n\n\nKom och lyssna på föreläsningen\, ställ frågor och diskutera. Det är fri entré och det bjuds på fika.\nVarmt välkomna!
URL:https://dalarna.vansterpartiet.se/handelse/forelasning-elpris-solel-elproduktion-energipolitik/
LOCATION:IOGT-NTO Malung\, Dalagatan 3\, Malung\, Dalarna\, 782 30\, Sverige
ORGANIZER;CN="V%C3%A4nsterpartiet Malung":MAILTO:malung@vansterpartiet.se
END:VEVENT
BEGIN:VEVENT
DTSTART;TZID=Europe/Stockholm:20230314T180000
DTEND;TZID=Europe/Stockholm:20230314T193000
DTSTAMP:20260425T053439
CREATED:20230314T121955Z
LAST-MODIFIED:20230314T121955Z
UID:5851-1678816800-1678822200@dalarna.vansterpartiet.se
SUMMARY:Diskussion: Hur påverkas Sverige av Nato?
DESCRIPTION:Offentlig diskussion ur olika synvinklar hur ett Nato-medlemskap kan påverka Sverige\, Dalarna och Falun. Vårat oppositionsråd i Region Dalarna\, Patrik Liljeglöd\, kommer representera Vänsterpartiet i diskussionen.\n \nDiskutera kommer han göra med Gabriel Ehrling Perers\, politisk redaktör på Falu-Kuriren\, och Ulla Gudmundsson\, tidigare minister vid Sveriges Natodelegation – och även författare till boken ”Nato – en allians i tiden”. Publiken kommer också få möjlighet att ställa frågor. \nVänsterpartiet säger NEJ till ett svenskt Nato-medlemskap. Kom och lyssna på diskussionen för att höra mer! \n\n\n 
URL:https://dalarna.vansterpartiet.se/handelse/diskussion-hur-paverkas-sverige-av-nato/
LOCATION:Gamla Elverket\, Falun\, Ölandsgatan 8\, Falun\, Dalarna\, 791 60\, Sverige
ATTACH;FMTTYPE=image/jpeg:https://dalarna.vansterpartiet.se/files/2023/03/Nato-diskussion-1.jpg
ORGANIZER;CN="Falu-Kuriren":MAILTO:tips@falukuriren.se
END:VEVENT
BEGIN:VEVENT
DTSTART;VALUE=DATE:20220911
DTEND;VALUE=DATE:20220912
DTSTAMP:20260425T053439
CREATED:20211021T154957Z
LAST-MODIFIED:20211021T155039Z
UID:5198-1662854400-1662940799@dalarna.vansterpartiet.se
SUMMARY:Valdagen
DESCRIPTION:
URL:https://dalarna.vansterpartiet.se/handelse/valdagen/
CATEGORIES:Riksevenemang eller -händelser
END:VEVENT
BEGIN:VEVENT
DTSTART;VALUE=DATE:20220320
DTEND;VALUE=DATE:20220321
DTSTAMP:20260425T053439
CREATED:20211021T154747Z
LAST-MODIFIED:20211021T154747Z
UID:5196-1647734400-1647820799@dalarna.vansterpartiet.se
SUMMARY:Valkonferens
DESCRIPTION:Fastställande av kandidatlistor till riksdags- och regionval.
URL:https://dalarna.vansterpartiet.se/handelse/valkonferens/
LOCATION:Ej fastställd
CATEGORIES:Möten och konferenser
ORGANIZER;CN="V%C3%A4nsterpartiet Dalarna":MAILTO:dalarna@vansterpartiet.se
END:VEVENT
BEGIN:VEVENT
DTSTART;VALUE=DATE:20220319
DTEND;VALUE=DATE:20220320
DTSTAMP:20260425T053439
CREATED:20211021T154631Z
LAST-MODIFIED:20211021T154631Z
UID:5193-1647648000-1647734399@dalarna.vansterpartiet.se
SUMMARY:Distriktsårskonferens
DESCRIPTION:Distriktets högsta beslutande organ
URL:https://dalarna.vansterpartiet.se/handelse/distriktsarskonferens/
LOCATION:Ej fastställd
CATEGORIES:Distriktsårskonferens,Möten och konferenser
ORGANIZER;CN="V%C3%A4nsterpartiet Dalarna":MAILTO:dalarna@vansterpartiet.se
END:VEVENT
BEGIN:VEVENT
DTSTART;TZID=Europe/Stockholm:20220222T180000
DTEND;TZID=Europe/Stockholm:20220222T203000
DTSTAMP:20260425T053439
CREATED:20211021T154452Z
LAST-MODIFIED:20211021T154452Z
UID:5191-1645552800-1645561800@dalarna.vansterpartiet.se
SUMMARY:Distriktsstyrelsemöte
DESCRIPTION:
URL:https://dalarna.vansterpartiet.se/handelse/distriktsstyrelsemote-4/
LOCATION:Microsoft Teams\, Sverige
CATEGORIES:Distriktsstyrelsemöte,Möten och konferenser
ORGANIZER;CN="V%C3%A4nsterpartiet Dalarna":MAILTO:dalarna@vansterpartiet.se
END:VEVENT
BEGIN:VEVENT
DTSTART;TZID=Europe/Stockholm:20220204T100000
DTEND;TZID=Europe/Stockholm:20220206T150000
DTSTAMP:20260425T053439
CREATED:20211021T154324Z
LAST-MODIFIED:20211021T154402Z
UID:5188-1643968800-1644159600@dalarna.vansterpartiet.se
SUMMARY:Vänsterpartiets kongress 2022
DESCRIPTION:Mellan 4-6 februari  2022 håller Vänsterpartiet sin 44:e kongress. Kongressen hålls i Stockholm på Folkets hus\, Norra Bantorget.
URL:https://dalarna.vansterpartiet.se/handelse/vansterpartiets-kongress-2022/
LOCATION:Stockholm Folkets hus\, Barnhusgatan 12-14\, Stockholm\, 111 23
CATEGORIES:Kongress,Riksevenemang eller -händelser
ORGANIZER;CN="V%C3%A4nsterpartiet":MAILTO:info@vansterpartiet.se
END:VEVENT
BEGIN:VEVENT
DTSTART;VALUE=DATE:20220204
DTEND;VALUE=DATE:20220205
DTSTAMP:20260425T053439
CREATED:20211221T094728Z
LAST-MODIFIED:20211221T094826Z
UID:5248-1643932800-1644019199@dalarna.vansterpartiet.se
SUMMARY:Motionsstopp till DÅK
DESCRIPTION:Sista dag att lämna in motioner till distriktsårskonferensen.
URL:https://dalarna.vansterpartiet.se/handelse/motionsstopp-till-dak/
ORGANIZER;CN="V%C3%A4nsterpartiet Dalarna":MAILTO:dalarna@vansterpartiet.se
END:VEVENT
BEGIN:VEVENT
DTSTART;VALUE=DATE:20220204
DTEND;VALUE=DATE:20220205
DTSTAMP:20260425T053439
CREATED:20211221T094632Z
LAST-MODIFIED:20211221T094845Z
UID:5246-1643932800-1644019199@dalarna.vansterpartiet.se
SUMMARY:Nomineringsstopp för valberedning
DESCRIPTION:Sista dag att nominera till valberedning.
URL:https://dalarna.vansterpartiet.se/handelse/nomineringsstopp-for-valberedning/
ORGANIZER;CN="V%C3%A4nsterpartiet Dalarna":MAILTO:dalarna@vansterpartiet.se
END:VEVENT
BEGIN:VEVENT
DTSTART;VALUE=DATE:20220201
DTEND;VALUE=DATE:20220202
DTSTAMP:20260425T053439
CREATED:20211221T094540Z
LAST-MODIFIED:20211221T094902Z
UID:5244-1643673600-1643759999@dalarna.vansterpartiet.se
SUMMARY:Nomineringsstopp till DÅK
DESCRIPTION:Sista dag att nominera till distriktsuppdrag.
URL:https://dalarna.vansterpartiet.se/handelse/nomineringsstopp-till-dak/
END:VEVENT
BEGIN:VEVENT
DTSTART;TZID=Europe/Stockholm:20220111T180000
DTEND;TZID=Europe/Stockholm:20220111T203000
DTSTAMP:20260425T053439
CREATED:20211021T153847Z
LAST-MODIFIED:20211021T153847Z
UID:5186-1641924000-1641933000@dalarna.vansterpartiet.se
SUMMARY:Distriktsstyrelsemöte
DESCRIPTION:
URL:https://dalarna.vansterpartiet.se/handelse/distriktsstyrelsemote-3/
LOCATION:Microsoft Teams\, Sverige
CATEGORIES:Distriktsstyrelsemöte,Möten och konferenser
ORGANIZER;CN="V%C3%A4nsterpartiet Dalarna":MAILTO:dalarna@vansterpartiet.se
END:VEVENT
BEGIN:VEVENT
DTSTART;TZID=Europe/Stockholm:20211214T180000
DTEND;TZID=Europe/Stockholm:20211214T203000
DTSTAMP:20260425T053439
CREATED:20211021T153721Z
LAST-MODIFIED:20211021T153721Z
UID:5184-1639504800-1639513800@dalarna.vansterpartiet.se
SUMMARY:Distriktsstyrelsemöte
DESCRIPTION:
URL:https://dalarna.vansterpartiet.se/handelse/distriktsstyrelsemote-2/
LOCATION:Microsoft Teams\, Sverige
CATEGORIES:Distriktsstyrelsemöte,Möten och konferenser
ORGANIZER;CN="V%C3%A4nsterpartiet Dalarna":MAILTO:dalarna@vansterpartiet.se
END:VEVENT
BEGIN:VEVENT
DTSTART;VALUE=DATE:20211201
DTEND;VALUE=DATE:20211202
DTSTAMP:20260425T053439
CREATED:20211021T155408Z
LAST-MODIFIED:20211021T155422Z
UID:5201-1638316800-1638403199@dalarna.vansterpartiet.se
SUMMARY:Nomineringsstopp
DESCRIPTION:Sista dag att nominera kandidater till riksdags- och regionlistan.  Var vänlig använd formuläret för att nominera.
URL:https://dalarna.vansterpartiet.se/handelse/nomineringsstopp-2/
CATEGORIES:Riksevenemang eller -händelser
END:VEVENT
BEGIN:VEVENT
DTSTART;TZID=Europe/Stockholm:20211121T090000
DTEND;TZID=Europe/Stockholm:20211121T170000
DTSTAMP:20260425T053439
CREATED:20211021T153423Z
LAST-MODIFIED:20211021T153515Z
UID:5179-1637485200-1637514000@dalarna.vansterpartiet.se
SUMMARY:Partiföreningsskolan för norra Dalarna - del 3
DESCRIPTION:Endast öppen för deltagare som är anmälda av respektive partiföreningsstyrelse. I första hand riktar sig utbildningen till styrelsemedlemmar eller potentiella sådana. Anmälan ska göras till distriktet. 
URL:https://dalarna.vansterpartiet.se/handelse/partiforeningsskolan-del-3-2/
LOCATION:Yvradsvägen 29\, Mora\, 792 34\, Sverige
CATEGORIES:Riksevenemang eller -händelser,Utbildningar
ORGANIZER;CN="V%C3%A4nsterpartiet Dalarna":MAILTO:dalarna@vansterpartiet.se
END:VEVENT
BEGIN:VEVENT
DTSTART;TZID=Europe/Stockholm:20211120T090000
DTEND;TZID=Europe/Stockholm:20211120T170000
DTSTAMP:20260425T053439
CREATED:20211021T153245Z
LAST-MODIFIED:20211021T153501Z
UID:5175-1637398800-1637427600@dalarna.vansterpartiet.se
SUMMARY:Partiföreningsskolan för södra Dalarna - del 3
DESCRIPTION:Endast öppen för deltagare som är anmälda av respektive partiföreningsstyrelse. I första hand riktar sig utbildningen till styrelsemedlemmar eller potentiella sådana. Anmälan ska göras till distriktet. 
URL:https://dalarna.vansterpartiet.se/handelse/partiforeningsskolan-del-3/
LOCATION:Hedemora Folkets park\, Österbyvägen 7\, Hedemora\, 77633\, Sverige
CATEGORIES:Riksevenemang eller -händelser,Utbildningar
ORGANIZER;CN="V%C3%A4nsterpartiet Dalarna":MAILTO:dalarna@vansterpartiet.se
END:VEVENT
END:VCALENDAR